BEGIN:VCALENDAR
VERSION:2.0
PRODID:-//VSEMH//NONSGML kigkonsult.se iCalcreator 2.16.12//
METHOD:PUBLISH
X-MS-OLK-FORCEINSPECTOROPEN:TRUE
BEGIN:VEVENT
UID:20260419T121624CEST-9168URAGZt@VSEMH
DTSTAMP:20260419T101624Z
DESCRIPTION:
DTSTART:20181206T090000
DTEND:20181206T160000
LOCATION:Zürich
ORGANIZER:MAILTO:VSEMH <info@vsemh.ch>
SUMMARY:Kurs Betriebliches Gesundheitsmanagement
END:VEVENT
END:VCALENDAR
